Workbook

Sheet rekening schema
A1: REKENING SCHEMA
A3: nummer | B3: omschrijving | C3: toelichting
B5: vaste activa
A6: 10 | B6: pand in eigendom
A7: 15 | B7: investeringen aan pand
A8: 20 | B8: transportmiddelen
A9: 25 | B9: interne transportmiddelen
A10: 30 | B10: koel- en vries apparatuur
A11: 50 | B11: inventaris
A12: 60 | B12: computer / IT middelen
B15: vlottende activa
A16: 201 | B16: vorderingen
A17: 202 | B17: vooruitbetaalde huur en service kosten
A18: 203 | B18: overige vooruitbetaalde bedragen
A19: 204 | B19: verstrekte leningen
A20: 205 | B20: overige vorderingen
A22: 291 | B22: bank 1
A23: 292 | B23: bank 2
A24: 293 | B24: bank 3
B27: eigen vermogen
A28: 301 | B28: algemene/continuïteits reserve
A29: 302 | B29: nalatenschappen
A30: 303 | B30: vrije reserve
A31: 401 | B31: Bestemmings Fonds 1
A32: 402 | B32: Bestemmings Fonds 2
A33: 403 | B33: Bestemmings Fonds 3
A34: 404 | B34: Bestemmings Fonds 4
A35: 405 | B35: Bestemmings Fonds 5
A36: 501 | B36: Bestemmings Reserve 1
A37: 502 | B37: Bestemmings Reserve 2
A38: 503 | B38: Bestemmings Reserve 3
A39: 504 | B39: Bestemmings Reserve 4
... A46: 800 | B46: vreemd vermogen op lange termijn
B49: kort vreemd vermogen
A50: 901 | B50: schulden < 1 jaar
A51: 902 | B51: crediteuren
A52: 950 | B52: vooruitontvangen bedragen
A53: 991 | B53: nog te betalen rente en bankkosten
A54: 992 | B54: nog te betalen accountants/kas commissie kosten
A55: 993 | B55: nog te betalen belastingen/overheidsheffingen
...

Sheet Baten
A1: rekening | B1: BATEN | C1: JAAR -1 | E1: HUIDIG JAAR
C2: begroting | D2: werkelijk | E2: begroting | F2: werkelijk | G2: afwijking | H2: %
B5: Baten uit eigen fondsenwerving
A6: 8001 | B6: ='rekening schema'!B149 -> giften particulieren | G6: =-E6+F6 -> 0 | H6: =G6/E6 -> #DIV/0!
A7: 8011 | B7: ='rekening schema'!B150 -> giften bedrijven | G7: =-E7+F7 -> 0 | H7: =G7/E7 -> #DIV/0!
A8: 8021 | B8: ='rekening schema'!B151 -> giften organisatie zonder winstoogmerk | G8: =-E8+F8 -> 0 | H8: =G8/E8 -> #DIV/0!
A9: 8031 | B9: ='rekening schema'!B152 -> giften kerkelijke instellingen | G9: =-E9+F9 -> 0 | H9: =G9/E9 -> #DIV/0!
A10: 8041 | B10: ='rekening schema'!B153 -> nalatenschappen | G10: =-E10+F10 -> 0 | H10: =G10/E10 -> #DIV/0!
A11: 8051 | B11: ='rekening schema'!B154 -> bijdragen steunfondsen | G11: =-E11+F11 -> 0 | H11: =G11/E11 -> #DIV/0!
A12: 8061 | B12: ='rekening schema'!B155 -> subsidies | G12: =-E12+F12 -> 0 | H12: =G12/E12 -> #DIV/0!
A13: 8071 | B13: ='rekening schema'!B156 -> jaarlijkse bijdrage VBN | G13: =-E13+F13 -> 0 | H13: =G13/E13 -> #DIV/0!
A14: 8072 | B14: ='rekening schema'!B157 -> overige bijdragen VBN | G14: =-E14+F14 -> 0 | H14: =G14/E14 -> #DIV/0!
A15: 8076 | B15: ='rekening schema'!B158 -> giften loterij organisaties
A16: 8081 | B16: ='rekening schema'!B159 -> eigen acties | G16: =-E16+F16 -> 0 | H16: =G16/E16 -> #DIV/0!
A17: 8091 | B17: ='rekening schema'!B160 -> reclame inkomsten | G17: =-E17+F17 -> 0 | H17: =G17/E17 -> #DIV/0!
A18: 8099 | B18: ='rekening schema'!B161 -> overige inkomsten | G18: =-E18+F18 -> 0 | H18: =G18/E18 -> #DIV/0!
B19: Totaal baten uit eigen fondsenwerving | C19: =SUM(C6:C18) -> 0 | D19: =SUM(D6:D18) -> 0 | E19: =SUM(E6:E18) -> 0 | F19: =SUM(F6:F18) -> 0 | G19: =-E19+F19 -> 0 | H19: =G19/E19 -> #DIV/0!
A21: 8200 | B21: ='rekening schema'!B164 -> baten uit gezamenlijke acties | G21: =-E21+F21 -> 0 | H21: =G21/E21 -> #DIV/0!
A23: 8300 | B23: ='rekening schema'!B167 -> baten uit acties van derden | G23: =-E23+F23 -> 0 | H23: =G23/E23 -> #DIV/0!
A25: 8400 | B25: ='rekening schema'!B170 -> financiële baten | G25: =-E25+F25 -> 0 | H25: =G25/E25 -> #DIV/0!
B27: TOTAAL BATEN | C27: =C19+C21+C23+C25 -> 0 | D27: =D19+D21+D23+D25 -> 0 | E27: =E19+E21+E23+E25 -> 0 | F27: =F19+F21+F23+F25 -> 0 | G27: =-E27+F27 -> 0 | H27: =G27/E27 -> #DIV/0!
B29: VOORDELIG SALDO | C29: =IF(C27>Lasten!C92,C27-Lasten!C92,"N.V.T.") -> N.V.T. | D29: =IF(D27>Lasten!D92,D27-Lasten!D92,"N.V.T.") -> N.V.T. | E29: =IF(E27>Lasten!E92,E27-Lasten!E92,"N.V.T.") -> N.V.T. | F29: =IF(F27>Lasten!F92,F27-Lasten!F92,"N.V.T.") -> N.V.T.

Sheet Lasten
A1: rekening | B1: LASTEN | C1: JAAR -1 | E1: HUIDIG JAAR
C2: begroting | D2: werkelijk | E2: begroting | F2: werkelijk | G2: afwijking | H2: %
B4: Algemene kosten
A5: 4001 | B5: ='rekening schema'!B60 -> verzekeringen excl. autoverzekeringen | G5: =-E5+F5 -> 0 | H5: =G5/E5 -> #DIV/0!
A6: 4002 | B6: ='rekening schema'!B61 -> adviseurs- en notariskosten | G6: =-E6+F6 -> 0 | H6: =G6/E6 -> #DIV/0!
A7: 4003 | B7: ='rekening schema'!B62 -> representatiekosten (t.b.v. derden) | G7: =-E7+F7 -> 0 | H7: =G7/E7 -> #DIV/0!
A8: 4004 | B8: ='rekening schema'!B63 -> reiskosten | G8: =-E8+F8 -> 0 | H8: =G8/E8 -> #DIV/0!
A9: 4009 | B9: ='rekening schema'!B64 -> overige algemene kosten | G9: =-E9+F9 -> 0 | H9: =G9/E9 -> #DIV/0!
B10: Totaal algemene kosten | C10: =SUM(C5:C9) -> 0 | D10: =SUM(D5:D9) -> 0 | E10: =SUM(E5:E9) -> 0 | F10: =SUM(F5:F9) -> 0 | G10: =-E10+F10 -> 0 | H10: =G10/E10 -> #DIV/0!
B12: Communicatie kosten
A13: 4050 | B13: ='rekening schema'!B68 -> website | G13: =-E13+F13 -> 0 | H13: =G13/E13 -> #DIV/0!
A14: 4051 | B14: ='rekening schema'!B69 -> drukwerk | G14: =-E14+F14 -> 0 | H14: =G14/E14 -> #DIV/0!
A15: 4052 | B15: ='rekening schema'!B70 -> porto kosten | G15: =-E15+F15 -> 0 | H15: =G15/E15 -> #DIV/0!
A16: 4053 | B16: ='rekening schema'!B71 -> stands/marktkramen | G16: =-E16+F16 -> 0 | H16: =G16/E16 -> #DIV/0!
A17: 4054 | B17: ='rekening schema'!B72 -> PR kosten | G17: =-E17+F17 -> 0 | H17: =G17/E17 -> #DIV/0!
A18: 4059 | B18: ='rekening schema'!B73 -> overige communicatiekosten | G18: =-E18+F18 -> 0 | H18: =G18/E18 -> #DIV/0!
B19: Totaal communicatie kosten | C19: =SUM(C13:C16) -> 0 | D19: =SUM(D13:D16) -> 0 | E19: =SUM(E13:E16) -> 0 | F19: =SUM(F13:F16) -> 0 | G19: =-E19+F19 -> 0 | H19: =G19/E19 -> #DIV/0!
B21: Huisvestingskosten
A22: 4101 | B22: ='rekening schema'!B77 -> huur | G22: =-E22+F22 -> 0 | H22: =G22/E22 -> #DIV/0!
A23: 4102 | B23: ='rekening schema'!B78 -> energie | G23: =-E23+F23 -> 0 | H23: =G23/E23 -> #DIV/0!
A24: 4103 | B24: ='rekening schema'!B79 -> OZB | G24: =-E24+F24 -> 0 | H24: =G24/E24 -> #DIV/0!
A25: 4104 | B25: ='rekening schema'!B80 -> waterschapslaten | G25: =-E25+F25 -> 0 | H25: =G25/E25 -> #DIV/0!
A26: 4105 | B26: ='rekening schema'!B81 -> onderhoudskosten gebouw | G26: =-E26+F26 -> 0 | H26: =G26/E26 -> #DIV/0!
A27: 4106 | B27: ='rekening schema'!B82 -> schoonmaakkosten | G27: =-E27+F27 -> 0 | H27: =G27/E27 -> #DIV/0!
A28: 4107 | B28: ='rekening schema'!B83 -> vuil container | G28: =-E28+F28 -> 0 | H28: =G28/E28 -> #DIV/0!
A29: 4108 | B29: ='rekening schema'!B84 -> kosten beveiliging | G29: =-E29+F29 -> 0 | H29: =G29/E29 -> #DIV/0!
A30: 4199 | B30: ='rekening schema'!B85 -> overige huisvesting kosten | G30: =-E30+F30 -> 0 | H30: =G30/E30 -> #DIV/0!
B31: Totaal huisvestingskosten | C31: =SUM(C22:C30) -> 0 | D31: =SUM(D22:D30) -> 0 | E31: =SUM(E22:E30) -> 0 | F31: =SUM(F22:F30) -> 0 | G31: =-E31+F31 -> 0 | H31: =G31/E31 -> #DIV/0!
B33: Exploitatiekosten
A34: 4201 | B34: ='rekening schema'!B89 -> aankopen gebruiksvoorwerpen < € 450,00 | G34: =-E34+F34 -> 0 | H34: =G34/E34 -> #DIV/0!
A35: 4202 | B35: ='rekening schema'!B90 -> afdracht aan RDC | G35: =-E35+F35 -> 0 | H35: =G35/E35 -> #DIV/0!
A36: 4299 | B36: ='rekening schema'!B91 -> overige exploitatie kosten | G36: =-E36+F36 -> 0 | H36: =G36/E36 -> #DIV/0!
B37: Totaal exploitatie kosten | C37: =SUM(C34:C36) -> 0 | D37: =SUM(D34:D36) -> 0 | E37: =SUM(E34:E36) -> 0 | F37: =SUM(F34:F36) -> 0 | G37: =-E37+F37 -> 0 | H37: =G37/E37 -> #DIV/0!
A39: 4300 | B39: ='rekening schema'!B94 -> kosten aanschaf voedsel | C39: 0 | D39: 0 | E39: 0 | F39: 0 | G39: =-E39+F39 -> 0 | H39: =G39/E39 -> #DIV/0!
B41: Transportkosten
A42: 4401 | B42: ='rekening schema'!B98 -> brandstof kosten | G42: =-E42+F42 -> 0 | H42: =G42/E42 -> #DIV/0!
A43: 4402 | B43: ='rekening schema'!B99 -> onderhoud/reparaties | G43: =-E43+F43 -> 0 | H43: =G43/E43 -> #DIV/0!
A44: 4403 | B44: ='rekening schema'!B100 -> motorrijtuigenbelasting | G44: =-E44+F44 -> 0 | H44: =G44/E44 -> #DIV/0!
A45: 4404 | B45: ='rekening schema'!B101 -> auto verzekeringen | G45: =-E45+F45 -> 0 | H45: =G45/E45 -> #DIV/0!
A46: 4405 | B46: ='rekening schema'!B102 -> auto huur | G46: =-E46+F46 -> 0 | H46: =G46/E46 -> #DIV/0!
...

Sheet Balans
B1: ACTIVA | C1: JAAR -1 | E1: HUIDIG JAAR | I1: PASSIVA | J1: JAAR -1 | L1: HUIDIG JAAR
C2: begroting | D2: werkelijk | E2: begroting | F2: werkelijk | J2: begroting | K2: werkelijk | L2: begroting | M2: werkelijk
B4: Vaste activa | I4: Eigen Vermogen
A5: 10 | B5: Pand in eigendom | H5: 301 | I5: Algemene/ continuïteits reserve
A6: 15 | B6: Investeringen aan pand | H6: 401-405 | I6: Bestemmingsfondsen | K6: ='mutaties BF en BR'!B11 -> 0 | M6: ='mutaties BF en BR'!E11 -> 0
A7: 20 | B7: transportmiddelen (auto etc.) | H7: 501-505 | I7: Bestemmings Reserves | K7: ='mutaties BF en BR'!B23 -> 0 | M7: ='mutaties BF en BR'!E23 -> 0
A8: 25 | B8: interne transportmiddelen | H8: 302 | I8: Nalatenschappen
A9: 30 | B9: koel- en vries apparatuur | H9: 303 | I9: vrije reserve
A10: 50 | B10: inventaris | I10: Totaal eigen vermogen | J10: =SUM(J5:J9) -> 0 | K10: =SUM(K5:K9) -> 0 | L10: =SUM(L5:L9) -> 0 | M10: =SUM(M5:M9) -> 0
A11: 60 | B11: computers / IT middelen
B12: Totaal vaste activa | C12: =SUM(C5:C11) -> 0 | D12: =SUM(D5:D11) -> 0 | E12: =SUM(E5:E11) -> 0 | F12: =SUM(F5:F11) -> 0 | H12: 700 | I12: Voorzieningen | J12: 0 | K12: 0 | L12: 0 | M12: 0
B14: Vlottende activa | H14: 800 | I14: Vreemd vermogen op Lange termijn (> 1 jaar) | J14: 0 | K14: 0 | L14: 0 | M14: 0
A15: 201 | B15: vorderingen
A16: 202+203 | B16: vooruitbetaalde kosten | I16: Kort vreemd vermogen
A17: 204+205 | B17: overige vorderingen | H17: 901 | I17: schulden < 1 jaar
A18: 291-293 | B18: liquide middelen | H18: 902 | I18: crediteuren
B19: Totaal vlottende activa | C19: =-SUM(C15:C18) -> 0 | D19: =-SUM(D15:D18) -> 0 | E19: =-SUM(E15:E18) -> 0 | F19: =-SUM(F15:F18) -> 0 | H19: 950 | I19: vooruitontvangen bedragen
H20: 991 - 994 | I20: overige schulden
I21: Totaal kort vreemd vermogen | J21: =SUM(J17:J20) -> 0 | K21: =SUM(K17:K20) -> 0 | L21: =SUM(L17:L20) -> 0 | M21: =SUM(M17:M20) -> 0
B23: TOTAAL ACTIVA | C23: =C12+C19 -> 0 | D23: =D12+D19 -> 0 | E23: =E12+E19 -> 0 | F23: =F12+F19 -> 0 | I23: TOTAAL PASSIVA | J23: =J10+J12+J14+J21 -> 0 | K23: =K10+K12+K14+K21 -> 0 | L23: =L10+L12+L14+L21 -> 0 | M23: =M10+M12+M14+M21 -> 0
B25: LET OP AFSCHRIJVINGEN WORDEN IN EEN APART SPREADSHEET BEREKEND | I25: CONTROLE ACTIVA = PASSIVA | J25: =IF(C23=J23,"okay","incorrect") -> okay | K25: =IF(D23=K23,"okay","incorrect") -> okay | L25: =IF(E23=L23,"okay","incorrect") -> okay | M25: =IF(F23=M23,"okay","incorrect") -> okay
B26: ALS DIT GEREED IS WORDT EEN NIEUWE VERSIE VAN DIT SPREADSHEET EN DE AFSCHRIJVINGEN SHEET | I26: CONTROLE EIGEN VERMOGEN | M26: =IF((M10-K10)=(Baten!F27-Lasten!F92),"okay","INCORRECT") -> okay
B27: GEPUBLICEERD.

Sheet mutaties BF en BR
B2: jaar -1 | C2: huidig jaar | D2: huidig jaar | E2: huidig jaar
A3: Mutaties Bestemmings Fondsen | B3: beginstand | C3: toevoeging | D3: besteed | E3: eindsaldo
A5: Fonds 1 | E5: =SUM(B5:D5) -> 0
A6: Fonds 2 | E6: =SUM(B6:D6) -> 0
A7: Fonds 3 | E7: =SUM(B7:D7) -> 0
A8: Fonds 4 | E8: =SUM(B8:D8) -> 0
A9: Fonds 5 | E9: =SUM(B9:D9) -> 0
A11: Totaal Bestemmings Fondsen | B11: =SUM(B5:B9) -> 0 | C11: =SUM(C5:C9) -> 0 | D11: =SUM(D5:D9) -> 0 | E11: =SUM(E5:E9) -> 0
B14: jaar -1 | C14: huidig jaar | D14: huidig jaar | E14: huidig jaar
A15: Mutaties Bestemmings Reserves | B15: beginstand | C15: toevoeging | D15: besteed | E15: eindsaldo
A17: Fonds 1 | E17: =SUM(B17:D17) -> 0
A18: Fonds 2 | E18: =SUM(B18:D18) -> 0
A19: Fonds 3 | E19: =SUM(B19:D19) -> 0
A20: Fonds 4 | E20: =SUM(B20:D20) -> 0
A21: Fonds 5 | E21: =SUM(B21:D21) -> 0
A23: Totaal Bestemmings Reserves | B23: =SUM(B17:B21) -> 0 | C23: =SUM(C17:C21) -> 0 | D23: =SUM(D17:D21) -> 0 | E23: =SUM(E17:E21) -> 0
